BEGIN:VCALENDAR
VERSION:2.0
PRODID:-//DMJPS - ECPv6.15.20//NONSGML v1.0//EN
CALSCALE:GREGORIAN
METHOD:PUBLISH
X-ORIGINAL-URL:https://dmjps.com
X-WR-CALDESC:Events for DMJPS
REFRESH-INTERVAL;VALUE=DURATION:PT1H
X-Robots-Tag:noindex
X-PUBLISHED-TTL:PT1H
BEGIN:VTIMEZONE
TZID:America/New_York
BEGIN:DAYLIGHT
TZOFFSETFROM:-0500
TZOFFSETTO:-0400
TZNAME:EDT
DTSTART:20240310T070000
END:DAYLIGHT
BEGIN:STANDARD
TZOFFSETFROM:-0400
TZOFFSETTO:-0500
TZNAME:EST
DTSTART:20241103T060000
END:STANDARD
BEGIN:DAYLIGHT
TZOFFSETFROM:-0500
TZOFFSETTO:-0400
TZNAME:EDT
DTSTART:20250309T070000
END:DAYLIGHT
BEGIN:STANDARD
TZOFFSETFROM:-0400
TZOFFSETTO:-0500
TZNAME:EST
DTSTART:20251102T060000
END:STANDARD
BEGIN:DAYLIGHT
TZOFFSETFROM:-0500
TZOFFSETTO:-0400
TZNAME:EDT
DTSTART:20260308T070000
END:DAYLIGHT
BEGIN:STANDARD
TZOFFSETFROM:-0400
TZOFFSETTO:-0500
TZNAME:EST
DTSTART:20261101T060000
END:STANDARD
END:VTIMEZONE
BEGIN:VEVENT
DTSTART;TZID=America/New_York:20251120T080000
DTEND;TZID=America/New_York:20251120T100000
DTSTAMP:20260419T142355
CREATED:20250926T002544Z
LAST-MODIFIED:20250926T002544Z
UID:122646-1763625600-1763632800@dmjps.com
SUMMARY:2025 WomanUp Celebration
DESCRIPTION:DMJPS is pleased to attend the Asheville Area Chamber of Commerce’s 2025 WomanUp Celebration.
URL:https://dmjps.com/event/2025-womanup-celebration/
LOCATION:Crown Plaza Resort Expo Center\, 1 Resort Drive\, Asheville\, NC\, 28806
CATEGORIES:General
END:VEVENT
BEGIN:VEVENT
DTSTART;TZID=America/New_York:20250602T170000
DTEND;TZID=America/New_York:20250602T190000
DTSTAMP:20260419T142355
CREATED:20250414T114816Z
LAST-MODIFIED:20250414T114816Z
UID:122170-1748883600-1748890800@dmjps.com
SUMMARY:2025 Asheville Area Chamber of Commerce Annual Meeting
DESCRIPTION:DMJPS is pleased to be an Entertainment Sponsor and attend Asheville Area Chamber of Commerce’s 2025 Annual Meeting.
URL:https://dmjps.com/event/2025-asheville-chamber-of-commerces-annual-meeting/
LOCATION:The Omni Grove Park Inn\, 290 Macon Avenue\, Asheville\, NC\, 28804\, United States
CATEGORIES:General
GEO:35.6201752;-82.542867
X-APPLE-STRUCTURED-LOCATION;VALUE=URI;X-ADDRESS=The Omni Grove Park Inn 290 Macon Avenue Asheville NC 28804 United States;X-APPLE-RADIUS=500;X-TITLE=290 Macon Avenue:geo:-82.542867,35.6201752
END:VEVENT
BEGIN:VEVENT
DTSTART;TZID=America/New_York:20250312T083000
DTEND;TZID=America/New_York:20250312T100000
DTSTAMP:20260419T142355
CREATED:20250210T191054Z
LAST-MODIFIED:20250210T191054Z
UID:121339-1741768200-1741773600@dmjps.com
SUMMARY:Asheville Chamber of Commerce's 2025 Premier Local Growth Breakfast
DESCRIPTION:DMJPS is pleased to Sponsor and attend Asheville Chamber of Commerce’s 2025 Premier Local Growth Breakfast.
URL:https://dmjps.com/event/asheville-chamber-of-commerces-2025-premier-local-growth-breakfast/
LOCATION:Mountain View Room\, Wilma Sherrill Center\, 227 Campus Drive\, Asheville\, NC\, 28804
CATEGORIES:General
END:VEVENT
END:VCALENDAR