BEGIN:VCALENDAR
VERSION:2.0
PRODID:-//DMJPS - ECPv6.15.20//NONSGML v1.0//EN
CALSCALE:GREGORIAN
METHOD:PUBLISH
X-WR-CALNAME:DMJPS
X-ORIGINAL-URL:https://dmjps.com
X-WR-CALDESC:Events for DMJPS
REFRESH-INTERVAL;VALUE=DURATION:PT1H
X-Robots-Tag:noindex
X-PUBLISHED-TTL:PT1H
BEGIN:VTIMEZONE
TZID:America/New_York
BEGIN:DAYLIGHT
TZOFFSETFROM:-0500
TZOFFSETTO:-0400
TZNAME:EDT
DTSTART:20240310T070000
END:DAYLIGHT
BEGIN:STANDARD
TZOFFSETFROM:-0400
TZOFFSETTO:-0500
TZNAME:EST
DTSTART:20241103T060000
END:STANDARD
BEGIN:DAYLIGHT
TZOFFSETFROM:-0500
TZOFFSETTO:-0400
TZNAME:EDT
DTSTART:20250309T070000
END:DAYLIGHT
BEGIN:STANDARD
TZOFFSETFROM:-0400
TZOFFSETTO:-0500
TZNAME:EST
DTSTART:20251102T060000
END:STANDARD
BEGIN:DAYLIGHT
TZOFFSETFROM:-0500
TZOFFSETTO:-0400
TZNAME:EDT
DTSTART:20260308T070000
END:DAYLIGHT
BEGIN:STANDARD
TZOFFSETFROM:-0400
TZOFFSETTO:-0500
TZNAME:EST
DTSTART:20261101T060000
END:STANDARD
END:VTIMEZONE
BEGIN:VEVENT
DTSTART;TZID=America/New_York:20250426T120000
DTEND;TZID=America/New_York:20250426T170000
DTSTAMP:20260419T213428
CREATED:20250312T131348Z
LAST-MODIFIED:20250312T131348Z
UID:121695-1745668800-1745686800@dmjps.com
SUMMARY:Outdoor Business Alliance’s- Get in Gear Festival
DESCRIPTION:DMJPS is pleased to be a Silver Sponsor and attend the Outdoor Business Alliance’s 10th Annual Gest in Gear Festival.
URL:https://dmjps.com/event/outdoor-business-alliances-get-in-gear-festival/
LOCATION:Adventure Center of Asheville\, 85 Expo St\, Asheville\, NC\, 28806
CATEGORIES:General
END:VEVENT
END:VCALENDAR