BEGIN:VCALENDAR
VERSION:2.0
PRODID:-//DMJPS - ECPv6.15.20//NONSGML v1.0//EN
CALSCALE:GREGORIAN
METHOD:PUBLISH
X-WR-CALNAME:DMJPS
X-ORIGINAL-URL:https://dmjps.com
X-WR-CALDESC:Events for DMJPS
REFRESH-INTERVAL;VALUE=DURATION:PT1H
X-Robots-Tag:noindex
X-PUBLISHED-TTL:PT1H
BEGIN:VTIMEZONE
TZID:America/New_York
BEGIN:DAYLIGHT
TZOFFSETFROM:-0500
TZOFFSETTO:-0400
TZNAME:EDT
DTSTART:20240310T070000
END:DAYLIGHT
BEGIN:STANDARD
TZOFFSETFROM:-0400
TZOFFSETTO:-0500
TZNAME:EST
DTSTART:20241103T060000
END:STANDARD
BEGIN:DAYLIGHT
TZOFFSETFROM:-0500
TZOFFSETTO:-0400
TZNAME:EDT
DTSTART:20250309T070000
END:DAYLIGHT
BEGIN:STANDARD
TZOFFSETFROM:-0400
TZOFFSETTO:-0500
TZNAME:EST
DTSTART:20251102T060000
END:STANDARD
BEGIN:DAYLIGHT
TZOFFSETFROM:-0500
TZOFFSETTO:-0400
TZNAME:EDT
DTSTART:20260308T070000
END:DAYLIGHT
BEGIN:STANDARD
TZOFFSETFROM:-0400
TZOFFSETTO:-0500
TZNAME:EST
DTSTART:20261101T060000
END:STANDARD
BEGIN:DAYLIGHT
TZOFFSETFROM:-0500
TZOFFSETTO:-0400
TZNAME:EDT
DTSTART:20270314T070000
END:DAYLIGHT
BEGIN:STANDARD
TZOFFSETFROM:-0400
TZOFFSETTO:-0500
TZNAME:EST
DTSTART:20271107T060000
END:STANDARD
END:VTIMEZONE
BEGIN:VEVENT
DTSTART;TZID=America/New_York:20260115T103000
DTEND;TZID=America/New_York:20260115T130000
DTSTAMP:20260425T064103
CREATED:20260108T143431Z
LAST-MODIFIED:20260108T143431Z
UID:122799-1768473000-1768482000@dmjps.com
SUMMARY:Boone Area Chamber of Commerce - 10th Annual High Country Economic Kickoff Luncheon
DESCRIPTION:DMJPS is pleased to sponsor and attend the Boone Area Chamber of Commerce’s 10th Annual High Country Economic Kickoff Luncheon.
URL:https://dmjps.com/event/boone-area-chamber-of-commerce-10th-annual-high-country-economic-kickoff-luncheon/
LOCATION:Appalachian State University’s Granview Ballroom\, 135 Jack Branch Drive\, Boone\, NC\, 28607
CATEGORIES:General
END:VEVENT
BEGIN:VEVENT
DTSTART;TZID=America/New_York:20250918T180000
DTEND;TZID=America/New_York:20250918T210000
DTSTAMP:20260425T064103
CREATED:20250623T131817Z
LAST-MODIFIED:20250623T131817Z
UID:122396-1758218400-1758229200@dmjps.com
SUMMARY:Spirit of Boone: 76th Annual Membership Gathering
DESCRIPTION:DMJPS is pleased to sponsor and attend the Spirit of Boone: 76th Annual Membership Gathering hosted by the Boone Area Chamber of Commerce.
URL:https://dmjps.com/event/spirit-of-boone-76th-annual-membership-gathering/
LOCATION:Appalachian State University’s Granview Ballroom\, 135 Jack Branch Drive\, Boone\, NC\, 28607
CATEGORIES:General
END:VEVENT
BEGIN:VEVENT
DTSTART;TZID=America/New_York:20250904T080000
DTEND;TZID=America/New_York:20250904T170000
DTSTAMP:20260425T064103
CREATED:20250804T154416Z
LAST-MODIFIED:20250804T155103Z
UID:122542-1756972800-1757005200@dmjps.com
SUMMARY:Appalachian State University Meet the Firms
DESCRIPTION:DMJPS will be on Appalachian State University’s campus for the Meet the Firms event.
URL:https://dmjps.com/event/appalachian-state-university-meet-the-firms/
LOCATION:Appalachian State University’s Granview Ballroom\, 135 Jack Branch Drive\, Boone\, NC\, 28607
CATEGORIES:General
END:VEVENT
END:VCALENDAR