BEGIN:VCALENDAR
VERSION:2.0
PRODID:-//DMJPS - ECPv6.15.20//NONSGML v1.0//EN
CALSCALE:GREGORIAN
METHOD:PUBLISH
X-WR-CALNAME:DMJPS
X-ORIGINAL-URL:https://dmjps.com
X-WR-CALDESC:Events for DMJPS
REFRESH-INTERVAL;VALUE=DURATION:PT1H
X-Robots-Tag:noindex
X-PUBLISHED-TTL:PT1H
BEGIN:VTIMEZONE
TZID:America/New_York
BEGIN:DAYLIGHT
TZOFFSETFROM:-0500
TZOFFSETTO:-0400
TZNAME:EDT
DTSTART:20240310T070000
END:DAYLIGHT
BEGIN:STANDARD
TZOFFSETFROM:-0400
TZOFFSETTO:-0500
TZNAME:EST
DTSTART:20241103T060000
END:STANDARD
BEGIN:DAYLIGHT
TZOFFSETFROM:-0500
TZOFFSETTO:-0400
TZNAME:EDT
DTSTART:20250309T070000
END:DAYLIGHT
BEGIN:STANDARD
TZOFFSETFROM:-0400
TZOFFSETTO:-0500
TZNAME:EST
DTSTART:20251102T060000
END:STANDARD
BEGIN:DAYLIGHT
TZOFFSETFROM:-0500
TZOFFSETTO:-0400
TZNAME:EDT
DTSTART:20260308T070000
END:DAYLIGHT
BEGIN:STANDARD
TZOFFSETFROM:-0400
TZOFFSETTO:-0500
TZNAME:EST
DTSTART:20261101T060000
END:STANDARD
BEGIN:DAYLIGHT
TZOFFSETFROM:-0500
TZOFFSETTO:-0400
TZNAME:EDT
DTSTART:20270314T070000
END:DAYLIGHT
BEGIN:STANDARD
TZOFFSETFROM:-0400
TZOFFSETTO:-0500
TZNAME:EST
DTSTART:20271107T060000
END:STANDARD
END:VTIMEZONE
BEGIN:VEVENT
DTSTART;VALUE=DATE:20260323
DTEND;VALUE=DATE:20260328
DTSTAMP:20260421T080841
CREATED:20260309T152351Z
LAST-MODIFIED:20260309T152351Z
UID:122862-1774224000-1774655999@dmjps.com
SUMMARY:University of North Carolina at Wilmington- Business Week
DESCRIPTION:DMJPS is pleased to be a silver sponsor for UNCW’s 2026 Business Week.
URL:https://dmjps.com/event/university-of-north-carolina-at-wilmington-business-week/
LOCATION:UNCW\, 601 College Road\, Wilmington\, NC\, 28403
CATEGORIES:General
END:VEVENT
BEGIN:VEVENT
DTSTART;TZID=America/New_York:20250825T170000
DTEND;TZID=America/New_York:20250825T200000
DTSTAMP:20260421T080841
CREATED:20250804T153837Z
LAST-MODIFIED:20250804T153837Z
UID:122538-1756141200-1756152000@dmjps.com
SUMMARY:UNC Wilmington Meet the Firms
DESCRIPTION:DMJPS will be on UNCW’s campus to attend their Meet the Firms event.
URL:https://dmjps.com/event/unc-wilmington-meet-the-firms/
LOCATION:UNCW\, 601 College Road\, Wilmington\, NC\, 28403
CATEGORIES:General
END:VEVENT
BEGIN:VEVENT
DTSTART;TZID=America/New_York:20250319T080000
DTEND;TZID=America/New_York:20250319T170000
DTSTAMP:20260421T080841
CREATED:20250217T200207Z
LAST-MODIFIED:20250217T200207Z
UID:121441-1742371200-1742403600@dmjps.com
SUMMARY:UNCW Business Week
DESCRIPTION:DMJPS will be on the University of North Carolina Wilmington’s Campus to attend the Business Week event.
URL:https://dmjps.com/event/uncw-business-week/
LOCATION:UNCW\, 601 College Road\, Wilmington\, NC\, 28403
CATEGORIES:General
END:VEVENT
END:VCALENDAR